BEGIN:VCALENDAR
VERSION:2.0
PRODID:-//Camping transit - ECPv6.2.8.2//NONSGML v1.0//EN
CALSCALE:GREGORIAN
METHOD:PUBLISH
X-ORIGINAL-URL:https://campingtransit.com/en
X-WR-CALDESC:Events for Camping transit
REFRESH-INTERVAL;VALUE=DURATION:PT1H
X-Robots-Tag:noindex
X-PUBLISHED-TTL:PT1H
BEGIN:VTIMEZONE
TZID:America/Toronto
BEGIN:DAYLIGHT
TZOFFSETFROM:-0500
TZOFFSETTO:-0400
TZNAME:EDT
DTSTART:20210314T070000
END:DAYLIGHT
BEGIN:STANDARD
TZOFFSETFROM:-0400
TZOFFSETTO:-0500
TZNAME:EST
DTSTART:20211107T060000
END:STANDARD
END:VTIMEZONE
BEGIN:VEVENT
DTSTART;TZID=America/Toronto:20210824T190000
DTEND;TZID=America/Toronto:20210824T203000
DTSTAMP:20260419T110807
CREATED:20190605T153354Z
LAST-MODIFIED:20190605T153606Z
UID:6535-1629831600-1629837000@campingtransit.com
SUMMARY:Pétanque
DESCRIPTION:Come have fun with us every Tuesday night from 6:30!\n\nFun and laughs guaranteed !!!
URL:https://campingtransit.com/en/evenement/petanque/
LOCATION:Au terrain de pétanque
END:VEVENT
END:VCALENDAR