BEGIN:VCALENDAR
VERSION:2.0
PRODID:-//Camping transit - ECPv6.2.8.2//NONSGML v1.0//EN
CALSCALE:GREGORIAN
METHOD:PUBLISH
X-WR-CALNAME:Camping transit
X-ORIGINAL-URL:https://campingtransit.com/en
X-WR-CALDESC:Events for Camping transit
REFRESH-INTERVAL;VALUE=DURATION:PT1H
X-Robots-Tag:noindex
X-PUBLISHED-TTL:PT1H
BEGIN:VTIMEZONE
TZID:America/Toronto
BEGIN:DAYLIGHT
TZOFFSETFROM:-0500
TZOFFSETTO:-0400
TZNAME:EDT
DTSTART:20260308T070000
END:DAYLIGHT
BEGIN:STANDARD
TZOFFSETFROM:-0400
TZOFFSETTO:-0500
TZNAME:EST
DTSTART:20261101T060000
END:STANDARD
END:VTIMEZONE
BEGIN:VEVENT
DTSTART;TZID=America/Toronto:20260627T203000
DTEND;TZID=America/Toronto:20260627T230000
DTSTAMP:20260421T080057
CREATED:20190318T152701Z
LAST-MODIFIED:20260120T203841Z
UID:6417-1782592200-1782601200@campingtransit.com
SUMMARY:Québec national day
DESCRIPTION:Bonfire\nLocal singer\nBeautiful fireworks\n\n 
URL:https://campingtransit.com/en/evenement/fete-nationale-du-quebec/
LOCATION:Gazebo
ATTACH;FMTTYPE=image/jpeg:https://campingtransit.com/wp-content/uploads/2018/06/June-23-2018-IMG_0618-PR-e1543786776584.jpg
END:VEVENT
BEGIN:VEVENT
DTSTART;TZID=America/Toronto:20260807T173000
DTEND;TZID=America/Toronto:20260807T200000
DTSTAMP:20260421T080057
CREATED:20220723T164132Z
LAST-MODIFIED:20260120T202420Z
UID:7171-1786123800-1786132800@campingtransit.com
SUMMARY:Friendly dinner
DESCRIPTION:Friendly dinner at the gazebo\n \nEveryone brings their own meal and drink.\nWelcome to all!
URL:https://campingtransit.com/en/evenement/friendly-dinner/
LOCATION:Gazebo
ATTACH;FMTTYPE=image/jpeg:https://campingtransit.com/wp-content/uploads/2021/05/téléchargement-3.jpeg
END:VEVENT
BEGIN:VEVENT
DTSTART;TZID=America/Toronto:20260807T173000
DTEND;TZID=America/Toronto:20260809T110000
DTSTAMP:20260421T080057
CREATED:20241129T142400Z
LAST-MODIFIED:20260120T202544Z
UID:8118-1786123800-1786273200@campingtransit.com
SUMMARY:COUNTRY WEEKEND
DESCRIPTION:
URL:https://campingtransit.com/en/evenement/country-weekend/
LOCATION:Gazebo
ATTACH;FMTTYPE=image/jpeg:https://campingtransit.com/wp-content/uploads/2022/07/danse.jpeg
END:VEVENT
BEGIN:VEVENT
DTSTART;TZID=America/Toronto:20260808T100000
DTEND;TZID=America/Toronto:20260808T160000
DTSTAMP:20260421T080058
CREATED:20250809T181949Z
LAST-MODIFIED:20260120T202707Z
UID:8179-1786183200-1786204800@campingtransit.com
SUMMARY:kiosks
DESCRIPTION:10:00 a.m. to 4:00 p.m. \nkiosks will be on site in front of the gazebo. \nCome cheer them on!
URL:https://campingtransit.com/en/evenement/kiosks/
LOCATION:Gazebo
ATTACH;FMTTYPE=image/jpeg:https://campingtransit.com/wp-content/uploads/2021/05/images-15.jpeg
END:VEVENT
BEGIN:VEVENT
DTSTART;TZID=America/Toronto:20260808T140000
DTEND;TZID=America/Toronto:20260808T160000
DTSTAMP:20260421T080058
CREATED:20220723T171255Z
LAST-MODIFIED:20260120T202931Z
UID:7178-1786197600-1786204800@campingtransit.com
SUMMARY:Bingo
DESCRIPTION:Come and have fun with a country bingo!!!
URL:https://campingtransit.com/en/evenement/bingo-4/
LOCATION:Gazebo
ATTACH;FMTTYPE=image/jpeg:https://campingtransit.com/wp-content/uploads/2021/05/téléchargement-5.jpeg
END:VEVENT
BEGIN:VEVENT
DTSTART;TZID=America/Toronto:20260808T200000
DTEND;TZID=America/Toronto:20260808T230000
DTSTAMP:20260421T080058
CREATED:20220723T165636Z
LAST-MODIFIED:20260120T203343Z
UID:7174-1786219200-1786230000@campingtransit.com
SUMMARY:NEW: Country songwriter with CÉDRIC LANDRY
DESCRIPTION:Bring out your dancing skills and come have fun with us!!!\n\nCédric Landry renowned singer in the field.\n \nPleasure guaranteed!\n\n  \n 
URL:https://campingtransit.com/en/evenement/projection-of-country-music-on-a-giant-screen/
LOCATION:Gazebo
ATTACH;FMTTYPE=image/jpeg:https://campingtransit.com/wp-content/uploads/2021/05/téléchargement-2.jpeg
END:VEVENT
BEGIN:VEVENT
DTSTART;TZID=America/Toronto:20260809T090000
DTEND;TZID=America/Toronto:20260809T110000
DTSTAMP:20260421T080058
CREATED:20220723T174133Z
LAST-MODIFIED:20260120T203658Z
UID:7184-1786266000-1786273200@campingtransit.com
SUMMARY:Continental breakfast
DESCRIPTION:To round off this wonderful weekend\, we invite you to a fruit crepe breakfast. \n$PRICE TO COME/adult \nTickets are available from: \nYvonne\, lot #124 and Danielle\, lot #134 \n(before \, 2026) \nWelcome everyone! \n \n  \n  \n 
URL:https://campingtransit.com/en/evenement/continental-breakfast/
LOCATION:Gazebo
ATTACH;FMTTYPE=image/jpeg:https://campingtransit.com/wp-content/uploads/2022/07/crepe2.jpeg
END:VEVENT
END:VCALENDAR